Package: affyPLM Version: 1.87.0 Maintainer: Ben Bolstad MaintainerEmail: bmb at bmbolstad.com git_url: https://git.bioconductor.org/packages/affyPLM git_branch: devel git_last_commit: 53a03e9 git_last_commit_date: 2025-10-29 09:53:58 -0400 (Wed, 29 Oct 2025)