Package: affyILM Version: 1.63.0 Command: /home/biocbuild/bbs-3.23-bioc/R/bin/R CMD build --keep-empty-dirs --no-resave-data affyILM StartedAt: 2025-11-14 16:09:05 -0500 (Fri, 14 Nov 2025) EndedAt: 2025-11-14 16:09:45 -0500 (Fri, 14 Nov 2025) EllapsedTime: 40.0 seconds RetCode: 0 Status: OK PackageFile: affyILM_1.63.0.tar.gz PackageFileSize: 233.6 KiB