Package: affyILM Version: 1.61.0 Command: /Library/Frameworks/R.framework/Resources/bin/R CMD INSTALL affyILM StartedAt: 2025-10-22 15:08:24 -0400 (Wed, 22 Oct 2025) EndedAt: 2025-10-22 15:08:28 -0400 (Wed, 22 Oct 2025) EllapsedTime: 4.7 seconds RetCode: 0 Status: OK