Package: affyILM Version: 1.61.0 Command: /Library/Frameworks/R.framework/Resources/bin/R CMD build --keep-empty-dirs --no-resave-data affyILM StartedAt: 2025-10-22 15:36:13 -0400 (Wed, 22 Oct 2025) EndedAt: 2025-10-22 15:36:32 -0400 (Wed, 22 Oct 2025) EllapsedTime: 19.2 seconds RetCode: 0 Status: OK PackageFile: affyILM_1.61.0.tar.gz PackageFileSize: 233.4 KiB