Package: affyILM Version: 1.61.0 Command: rm -rf affyILM.buildbin-libdir && mkdir affyILM.buildbin-libdir && /Users/biocbuild/BBS/utils/build-universal.sh affyILM_1.61.0.tar.gz /Library/Frameworks/R.framework/Resources/bin/R affyILM.buildbin-libdir StartedAt: 2025-10-21 22:51:36 -0400 (Tue, 21 Oct 2025) EndedAt: 2025-10-21 22:51:43 -0400 (Tue, 21 Oct 2025) EllapsedTime: 6.1 seconds RetCode: 0 Status: OK PackageFile: affyILM_1.61.0.tgz PackageFileSize: 507.1 KiB