Package: affyContam Version: 1.69.0 Command: /home/biocbuild/bbs-3.23-bioc/R/bin/R CMD INSTALL affyContam StartedAt: 2025-11-20 15:57:19 -0500 (Thu, 20 Nov 2025) EndedAt: 2025-11-20 15:57:22 -0500 (Thu, 20 Nov 2025) EllapsedTime: 3.1 seconds RetCode: 0 Status: OK