Package: affyContam Version: 1.69.0 Command: /home/biocbuild/bbs-3.23-bioc/R/bin/R CMD build --keep-empty-dirs --no-resave-data affyContam StartedAt: 2025-11-20 16:08:12 -0500 (Thu, 20 Nov 2025) EndedAt: 2025-11-20 16:08:26 -0500 (Thu, 20 Nov 2025) EllapsedTime: 14.0 seconds RetCode: 0 Status: OK PackageFile: affyContam_1.69.0.tar.gz PackageFileSize: 502.5 KiB