Package: affyContam Version: 1.69.0 Command: /Library/Frameworks/R.framework/Resources/bin/R CMD INSTALL affyContam StartedAt: 2025-11-17 15:15:18 -0500 (Mon, 17 Nov 2025) EndedAt: 2025-11-17 15:15:32 -0500 (Mon, 17 Nov 2025) EllapsedTime: 13.7 seconds RetCode: 0 Status: OK