Package: affyContam Version: 1.69.0 Command: /Library/Frameworks/R.framework/Resources/bin/R CMD build --keep-empty-dirs --no-resave-data affyContam StartedAt: 2025-11-17 16:03:29 -0500 (Mon, 17 Nov 2025) EndedAt: 2025-11-17 16:03:51 -0500 (Mon, 17 Nov 2025) EllapsedTime: 22.9 seconds RetCode: 0 Status: OK PackageFile: affyContam_1.69.0.tar.gz PackageFileSize: 504.1 KiB