Package: affyContam Version: 1.69.0 Command: rm -rf affyContam.buildbin-libdir && mkdir affyContam.buildbin-libdir && /Users/biocbuild/BBS/utils/build-universal.sh affyContam_1.69.0.tar.gz /Library/Frameworks/R.framework/Resources/bin/R affyContam.buildbin-libdir StartedAt: 2025-11-20 01:20:08 -0500 (Thu, 20 Nov 2025) EndedAt: 2025-11-20 01:20:22 -0500 (Thu, 20 Nov 2025) EllapsedTime: 13.8 seconds RetCode: 0 Status: OK PackageFile: affyContam_1.69.0.tgz PackageFileSize: 304.4 KiB