Package: affy Version: 1.89.0 Command: /home/biocbuild/bbs-3.23-bioc/R/bin/R CMD INSTALL affy StartedAt: 2025-11-02 15:18:57 -0500 (Sun, 02 Nov 2025) EndedAt: 2025-11-02 15:19:05 -0500 (Sun, 02 Nov 2025) EllapsedTime: 8.1 seconds RetCode: 0 Status: OK