Package: affy Version: 1.89.0 Command: /home/biocbuild/bbs-3.23-bioc/R/bin/R CMD build --keep-empty-dirs --no-resave-data affy StartedAt: 2025-10-30 15:59:30 -0400 (Thu, 30 Oct 2025) EndedAt: 2025-10-30 15:59:48 -0400 (Thu, 30 Oct 2025) EllapsedTime: 18.0 seconds RetCode: 1 Status: ERROR PackageFile: None PackageFileSize: NA