Package: affy Version: 1.89.0 Command: /Library/Frameworks/R.framework/Resources/bin/R CMD INSTALL affy StartedAt: 2025-11-21 15:19:02 -0500 (Fri, 21 Nov 2025) EndedAt: 2025-11-21 15:19:30 -0500 (Fri, 21 Nov 2025) EllapsedTime: 27.9 seconds RetCode: 0 Status: OK