Package: affy Version: 1.89.0 Command: /Library/Frameworks/R.framework/Resources/bin/R CMD build --keep-empty-dirs --no-resave-data affy StartedAt: 2025-11-20 16:02:17 -0500 (Thu, 20 Nov 2025) EndedAt: 2025-11-20 16:03:43 -0500 (Thu, 20 Nov 2025) EllapsedTime: 85.9 seconds RetCode: 0 Status: OK PackageFile: affy_1.89.0.tar.gz PackageFileSize: 1.68 MiB