Package: affy Version: 1.89.0 Command: rm -rf affy.buildbin-libdir && mkdir affy.buildbin-libdir && /Users/biocbuild/BBS/utils/build-universal.sh affy_1.89.0.tar.gz /Library/Frameworks/R.framework/Resources/bin/R affy.buildbin-libdir StartedAt: 2025-11-22 01:20:58 -0500 (Sat, 22 Nov 2025) EndedAt: 2025-11-22 01:21:31 -0500 (Sat, 22 Nov 2025) EllapsedTime: 33.4 seconds RetCode: 0 Status: OK PackageFile: affy_1.89.0.tgz PackageFileSize: 1.994 MiB