Package: affy Version: 1.87.0 Command: /Library/Frameworks/R.framework/Resources/bin/R CMD build --keep-empty-dirs --no-resave-data affy StartedAt: 2025-10-24 15:38:32 -0400 (Fri, 24 Oct 2025) EndedAt: 2025-10-24 15:39:02 -0400 (Fri, 24 Oct 2025) EllapsedTime: 30.3 seconds RetCode: 0 Status: OK PackageFile: affy_1.87.0.tar.gz PackageFileSize: 1.685 MiB