Package: affy Version: 1.87.0 Command: rm -rf affy.buildbin-libdir && mkdir affy.buildbin-libdir && /Users/biocbuild/BBS/utils/build-universal.sh affy_1.87.0.tar.gz /Library/Frameworks/R.framework/Resources/bin/R affy.buildbin-libdir StartedAt: 2025-10-24 22:53:25 -0400 (Fri, 24 Oct 2025) EndedAt: 2025-10-24 22:53:31 -0400 (Fri, 24 Oct 2025) EllapsedTime: 6.2 seconds RetCode: 0 Status: OK PackageFile: affy_1.87.0.tgz PackageFileSize: 2 MiB