Package: affxparser Version: 1.81.0 Command: /home/biocbuild/bbs-3.22-bioc/R/bin/R CMD INSTALL affxparser StartedAt: 2025-10-03 15:01:15 -0400 (Fri, 03 Oct 2025) EndedAt: 2025-10-03 15:02:33 -0400 (Fri, 03 Oct 2025) EllapsedTime: 78.0 seconds RetCode: 0 Status: OK