Package: affxparser Version: 1.81.0 Command: /Library/Frameworks/R.framework/Resources/bin/R CMD INSTALL affxparser StartedAt: 2025-10-06 15:01:24 -0400 (Mon, 06 Oct 2025) EndedAt: 2025-10-06 15:01:56 -0400 (Mon, 06 Oct 2025) EllapsedTime: 32.8 seconds RetCode: 0 Status: OK