Package: affxparser Version: 1.81.0 Command: /Library/Frameworks/R.framework/Resources/bin/R CMD build --keep-empty-dirs --no-resave-data affxparser StartedAt: 2025-10-06 15:35:34 -0400 (Mon, 06 Oct 2025) EndedAt: 2025-10-06 15:35:36 -0400 (Mon, 06 Oct 2025) EllapsedTime: 2.0 seconds RetCode: 0 Status: OK PackageFile: affxparser_1.81.0.tar.gz PackageFileSize: 782.8 KiB