Package: adverSCarial Version: 1.7.1 Command: /Library/Frameworks/R.framework/Resources/bin/R CMD INSTALL adverSCarial StartedAt: 2025-10-08 15:22:09 -0400 (Wed, 08 Oct 2025) EndedAt: 2025-10-08 15:22:17 -0400 (Wed, 08 Oct 2025) EllapsedTime: 7.7 seconds RetCode: 0 Status: OK