Package: adverSCarial Version: 1.7.1 Command: /Library/Frameworks/R.framework/Resources/bin/R CMD build --keep-empty-dirs --no-resave-data adverSCarial StartedAt: 2025-10-08 16:02:14 -0400 (Wed, 08 Oct 2025) EndedAt: 2025-10-08 16:02:49 -0400 (Wed, 08 Oct 2025) EllapsedTime: 35.5 seconds RetCode: 0 Status: OK PackageFile: adverSCarial_1.7.1.tar.gz PackageFileSize: 169.1 KiB