Package: adverSCarial Version: 1.7.1 Maintainer: Ghislain FIEVET MaintainerEmail: ghislain.fievet at gmail.com git_url: https://git.bioconductor.org/packages/adverSCarial git_branch: devel git_last_commit: f22c09f git_last_commit_date: 2025-07-15 03:16:49 -0400 (Tue, 15 Jul 2025)