Package: adSplit Version: 1.79.0 Command: /home/biocbuild/bbs-3.22-bioc/R/bin/R CMD check --install=check:adSplit.install-out.txt --library=/home/biocbuild/bbs-3.22-bioc/R/site-library --timings adSplit_1.79.0.tar.gz StartedAt: 2025-10-21 20:54:08 -0400 (Tue, 21 Oct 2025) EndedAt: 2025-10-21 20:59:24 -0400 (Tue, 21 Oct 2025) EllapsedTime: 316.4 seconds RetCode: 0 Status: OK CheckDir: adSplit.Rcheck Warnings: 0