Package: adSplit Version: 1.81.0 Command: /home/biocbuild/bbs-3.23-bioc/R/bin/R CMD build --keep-empty-dirs --no-resave-data adSplit StartedAt: 2025-11-06 16:07:02 -0500 (Thu, 06 Nov 2025) EndedAt: 2025-11-06 16:08:59 -0500 (Thu, 06 Nov 2025) EllapsedTime: 117.2 seconds RetCode: 0 Status: OK PackageFile: adSplit_1.81.0.tar.gz PackageFileSize: 536.8 KiB