Package: adSplit Version: 1.79.0 Command: /Library/Frameworks/R.framework/Resources/bin/R CMD INSTALL adSplit StartedAt: 2025-10-03 15:34:10 -0400 (Fri, 03 Oct 2025) EndedAt: 2025-10-03 15:34:35 -0400 (Fri, 03 Oct 2025) EllapsedTime: 24.0 seconds RetCode: 0 Status: OK