Package: adSplit Version: 1.79.0 Command: /Library/Frameworks/R.framework/Resources/bin/R CMD build --keep-empty-dirs --no-resave-data adSplit StartedAt: 2025-10-03 15:57:43 -0400 (Fri, 03 Oct 2025) EndedAt: 2025-10-03 16:00:09 -0400 (Fri, 03 Oct 2025) EllapsedTime: 145.4 seconds RetCode: 0 Status: OK PackageFile: adSplit_1.79.0.tar.gz PackageFileSize: 536.5 KiB