Package: adSplit Version: 1.79.0 Command: rm -rf adSplit.buildbin-libdir && mkdir adSplit.buildbin-libdir && /Users/biocbuild/BBS/utils/build-universal.sh adSplit_1.79.0.tar.gz /Library/Frameworks/R.framework/Resources/bin/R adSplit.buildbin-libdir StartedAt: 2025-10-04 01:52:00 -0400 (Sat, 04 Oct 2025) EndedAt: 2025-10-04 01:52:32 -0400 (Sat, 04 Oct 2025) EllapsedTime: 32.3 seconds RetCode: 0 Status: OK PackageFile: adSplit_1.79.0.tgz PackageFileSize: 560.8 KiB