Package: acde Version: 1.41.0 Command: /home/biocbuild/bbs-3.23-bioc/R/bin/R CMD INSTALL acde StartedAt: 2025-11-20 15:03:58 -0500 (Thu, 20 Nov 2025) EndedAt: 2025-11-20 15:04:19 -0500 (Thu, 20 Nov 2025) EllapsedTime: 21.2 seconds RetCode: 0 Status: OK