Package: acde Version: 1.41.0 Command: /home/biocbuild/bbs-3.23-bioc/R/bin/R CMD build --keep-empty-dirs --no-resave-data acde StartedAt: 2025-11-20 16:07:36 -0500 (Thu, 20 Nov 2025) EndedAt: 2025-11-20 16:07:49 -0500 (Thu, 20 Nov 2025) EllapsedTime: 13.0 seconds RetCode: 0 Status: OK PackageFile: acde_1.41.0.tar.gz PackageFileSize: 8.876 MiB