Package: acde Version: 1.41.0 Command: /Library/Frameworks/R.framework/Resources/bin/R CMD INSTALL acde StartedAt: 2025-11-21 15:12:00 -0500 (Fri, 21 Nov 2025) EndedAt: 2025-11-21 15:12:35 -0500 (Fri, 21 Nov 2025) EllapsedTime: 34.1 seconds RetCode: 0 Status: OK