Package: acde Version: 1.41.0 Command: /Library/Frameworks/R.framework/Resources/bin/R CMD build --keep-empty-dirs --no-resave-data acde StartedAt: 2025-11-20 16:02:17 -0500 (Thu, 20 Nov 2025) EndedAt: 2025-11-20 16:02:41 -0500 (Thu, 20 Nov 2025) EllapsedTime: 24.1 seconds RetCode: 0 Status: OK PackageFile: acde_1.41.0.tar.gz PackageFileSize: 8.871 MiB