Package: acde Version: 1.39.0 Command: rm -rf acde.buildbin-libdir && mkdir acde.buildbin-libdir && /Users/biocbuild/BBS/utils/build-universal.sh acde_1.39.0.tar.gz /Library/Frameworks/R.framework/Resources/bin/R acde.buildbin-libdir StartedAt: 2025-10-23 22:59:39 -0400 (Thu, 23 Oct 2025) EndedAt: 2025-10-23 22:59:41 -0400 (Thu, 23 Oct 2025) EllapsedTime: 2.0 seconds RetCode: 0 Status: OK PackageFile: acde_1.39.0.tgz PackageFileSize: 8.079 MiB