Package: abseqR Version: 1.29.0 Command: /home/biocbuild/bbs-3.23-bioc/R/bin/R CMD check --install=check:abseqR.install-out.txt --library=/home/biocbuild/bbs-3.23-bioc/R/site-library --timings abseqR_1.29.0.tar.gz StartedAt: 2025-11-21 20:54:30 -0500 (Fri, 21 Nov 2025) EndedAt: 2025-11-21 20:58:23 -0500 (Fri, 21 Nov 2025) EllapsedTime: 233.4 seconds RetCode: 0 Status: OK CheckDir: abseqR.Rcheck Warnings: 0