Package: abseqR Version: 1.29.0 Command: /home/biocbuild/bbs-3.23-bioc/R/bin/R CMD build --keep-empty-dirs --no-resave-data abseqR StartedAt: 2025-11-20 16:07:36 -0500 (Thu, 20 Nov 2025) EndedAt: 2025-11-20 16:09:46 -0500 (Thu, 20 Nov 2025) EllapsedTime: 130.2 seconds RetCode: 0 Status: OK PackageFile: abseqR_1.29.0.tar.gz PackageFileSize: 2.65 MiB