Package: aCGH Version: 1.89.0 Command: /home/biocbuild/bbs-3.23-bioc/R/bin/R CMD INSTALL aCGH StartedAt: 2025-11-07 15:12:28 -0500 (Fri, 07 Nov 2025) EndedAt: 2025-11-07 15:12:38 -0500 (Fri, 07 Nov 2025) EllapsedTime: 10.6 seconds RetCode: 0 Status: OK