Package: aCGH Version: 1.87.0 Command: /Library/Frameworks/R.framework/Resources/bin/R CMD INSTALL aCGH StartedAt: 2025-10-12 15:15:24 -0400 (Sun, 12 Oct 2025) EndedAt: 2025-10-12 15:15:51 -0400 (Sun, 12 Oct 2025) EllapsedTime: 27.0 seconds RetCode: 0 Status: OK