Package: aCGH Version: 1.87.0 Command: rm -rf aCGH.buildbin-libdir && mkdir aCGH.buildbin-libdir && /Users/biocbuild/BBS/utils/build-universal.sh aCGH_1.87.0.tar.gz /Library/Frameworks/R.framework/Resources/bin/R aCGH.buildbin-libdir StartedAt: 2025-10-13 02:19:35 -0400 (Mon, 13 Oct 2025) EndedAt: 2025-10-13 02:20:00 -0400 (Mon, 13 Oct 2025) EllapsedTime: 25.4 seconds RetCode: 0 Status: OK PackageFile: aCGH_1.87.0.tgz PackageFileSize: 2.497 MiB