Package: aCGH Version: 1.89.0 Maintainer: Peter Dimitrov MaintainerEmail: dimitrov at stat.Berkeley.EDU git_url: https://git.bioconductor.org/packages/aCGH git_branch: devel git_last_commit: bbcc194 git_last_commit_date: 2025-10-29 09:55:04 -0400 (Wed, 29 Oct 2025)