Package: a4Reporting Version: 1.59.0 Command: /home/biocbuild/bbs-3.23-bioc/R/bin/R CMD INSTALL a4Reporting StartedAt: 2025-10-31 15:10:30 -0400 (Fri, 31 Oct 2025) EndedAt: 2025-10-31 15:10:33 -0400 (Fri, 31 Oct 2025) EllapsedTime: 3.1 seconds RetCode: 0 Status: OK