Package: a4Reporting Version: 1.59.0 Command: /home/biocbuild/bbs-3.23-bioc/R/bin/R CMD build --keep-empty-dirs --no-resave-data a4Reporting StartedAt: 2025-11-02 16:13:30 -0500 (Sun, 02 Nov 2025) EndedAt: 2025-11-02 16:13:34 -0500 (Sun, 02 Nov 2025) EllapsedTime: 4.0 seconds RetCode: 0 Status: OK PackageFile: a4Reporting_1.59.0.tar.gz PackageFileSize: 292.8 KiB