Package: a4Reporting Version: 1.57.0 Command: /Library/Frameworks/R.framework/Resources/bin/R CMD INSTALL a4Reporting StartedAt: 2025-10-12 15:05:34 -0400 (Sun, 12 Oct 2025) EndedAt: 2025-10-12 15:06:03 -0400 (Sun, 12 Oct 2025) EllapsedTime: 29.0 seconds RetCode: 0 Status: OK