Package: a4Reporting Version: 1.57.0 Command: /Library/Frameworks/R.framework/Resources/bin/R CMD build --keep-empty-dirs --no-resave-data a4Reporting StartedAt: 2025-10-12 15:58:07 -0400 (Sun, 12 Oct 2025) EndedAt: 2025-10-12 15:58:16 -0400 (Sun, 12 Oct 2025) EllapsedTime: 9.2 seconds RetCode: 0 Status: OK PackageFile: a4Reporting_1.57.0.tar.gz PackageFileSize: 292.7 KiB