Package: a4Reporting Version: 1.57.0 Command: rm -rf a4Reporting.buildbin-libdir && mkdir a4Reporting.buildbin-libdir && /Users/biocbuild/BBS/utils/build-universal.sh a4Reporting_1.57.0.tar.gz /Library/Frameworks/R.framework/Resources/bin/R a4Reporting.buildbin-libdir StartedAt: 2025-10-11 02:16:14 -0400 (Sat, 11 Oct 2025) EndedAt: 2025-10-11 02:16:26 -0400 (Sat, 11 Oct 2025) EllapsedTime: 11.5 seconds RetCode: 0 Status: OK PackageFile: a4Reporting_1.57.0.tgz PackageFileSize: 433.4 KiB