Package: a4Reporting Version: 1.57.0 Command: /Library/Frameworks/R.framework/Resources/bin/R CMD INSTALL a4Reporting StartedAt: 2025-10-01 15:02:32 -0400 (Wed, 01 Oct 2025) EndedAt: 2025-10-01 15:02:33 -0400 (Wed, 01 Oct 2025) EllapsedTime: 1.4 seconds RetCode: 0 Status: OK