Package: a4Reporting Version: 1.57.0 Command: /Library/Frameworks/R.framework/Resources/bin/R CMD build --keep-empty-dirs --no-resave-data a4Reporting StartedAt: 2025-10-01 15:36:11 -0400 (Wed, 01 Oct 2025) EndedAt: 2025-10-01 15:36:14 -0400 (Wed, 01 Oct 2025) EllapsedTime: 3.0 seconds RetCode: 0 Status: OK PackageFile: a4Reporting_1.57.0.tar.gz PackageFileSize: 292.9 KiB