Package: a4Preproc Version: 1.57.0 Command: /home/biocbuild/R/R/bin/R CMD INSTALL a4Preproc StartedAt: 2025-10-06 20:23:22 -0000 (Mon, 06 Oct 2025) EndedAt: 2025-10-06 20:23:25 -0000 (Mon, 06 Oct 2025) EllapsedTime: 3.0 seconds RetCode: 0 Status: OK