Package: a4Preproc Version: 1.57.0 Command: /home/biocbuild/R/R/bin/R CMD build --keep-empty-dirs --no-resave-data a4Preproc StartedAt: 2025-10-06 21:31:39 -0000 (Mon, 06 Oct 2025) EndedAt: 2025-10-06 21:31:51 -0000 (Mon, 06 Oct 2025) EllapsedTime: 12.0 seconds RetCode: 0 Status: OK PackageFile: a4Preproc_1.57.0.tar.gz PackageFileSize: 352.8 KiB