Package: a4Preproc Version: 1.59.0 Command: /home/biocbuild/bbs-3.23-bioc/R/bin/R CMD check --install=check:a4Preproc.install-out.txt --library=/home/biocbuild/bbs-3.23-bioc/R/site-library --timings a4Preproc_1.59.0.tar.gz StartedAt: 2025-11-20 20:55:04 -0500 (Thu, 20 Nov 2025) EndedAt: 2025-11-20 20:55:38 -0500 (Thu, 20 Nov 2025) EllapsedTime: 34.0 seconds RetCode: 0 Status: OK CheckDir: a4Preproc.Rcheck Warnings: 0