Package: a4Preproc Version: 1.59.0 Command: /home/biocbuild/bbs-3.23-bioc/R/bin/R CMD build --keep-empty-dirs --no-resave-data a4Preproc StartedAt: 2025-11-20 16:07:36 -0500 (Thu, 20 Nov 2025) EndedAt: 2025-11-20 16:07:46 -0500 (Thu, 20 Nov 2025) EllapsedTime: 10.0 seconds RetCode: 0 Status: OK PackageFile: a4Preproc_1.59.0.tar.gz PackageFileSize: 288.5 KiB